BEGIN:VCALENDAR
VERSION:2.0
PRODID:-//InstitutoSQ - ECPv6.15.20//NONSGML v1.0//EN
CALSCALE:GREGORIAN
METHOD:PUBLISH
X-WR-CALNAME:InstitutoSQ
X-ORIGINAL-URL:https://sheilaquerido.com.br
X-WR-CALDESC:Eventos para InstitutoSQ
REFRESH-INTERVAL;VALUE=DURATION:PT1H
X-Robots-Tag:noindex
X-PUBLISHED-TTL:PT1H
BEGIN:VTIMEZONE
TZID:America/Sao_Paulo
BEGIN:STANDARD
TZOFFSETFROM:-0300
TZOFFSETTO:-0300
TZNAME:-03
DTSTART:20250101T000000
END:STANDARD
END:VTIMEZONE
BEGIN:VEVENT
DTSTART;TZID=America/Sao_Paulo:20260413T190000
DTEND;TZID=America/Sao_Paulo:20260413T220000
DTSTAMP:20260421T120812
CREATED:20260406T155915Z
LAST-MODIFIED:20260406T155915Z
UID:9094-1776106800-1776117600@sheilaquerido.com.br
SUMMARY:O dinheiro respeita quem respeita a própria origem
DESCRIPTION:🔖💛 Quero convidá-los para participarem do 130º Workshop de Constelação Familiar On-line.\nTema: O dinheiro respeita quem respeita a própria origem\nVamos entender a relação entre nossa origem e o dinheiro.\n📅 Dia: 13/04⏰ 19h📍 Plataforma Zoom\nA participação é gratuita para assistir 🆓\nINSCREVA-SE\n𝕀𝕟𝕤𝕥𝕚𝕥𝕦𝕥𝕠 𝕊𝕙𝕖𝕚𝕝𝕒 ℚ𝕦𝕖𝕣𝕚𝕕𝕠’𝕤𝕀𝕞𝕡𝕦𝕝𝕤𝕠 𝕧𝕚𝕥𝕒𝕝 𝕡𝕒𝕣𝕒 𝕣𝕖𝕒𝕝𝕚𝕫𝕒𝕣! (𝟭𝟮)𝟵𝟵𝟳𝟲𝟱𝟮𝟯𝟵𝟲\n👁️‍🗨️📱💻🌐🔊Sɪɢᴀ ɴᴏssᴀs ʀᴇᴅᴇs sᴏᴄɪᴀɪs: Instagram e Canal no Youtube\,\ne oᴜᴄ̧ᴀ ᴏ Podcast: 𝓒𝓸𝓷𝓮𝔁𝓸̃𝓮𝓼 𝓢𝓲𝓼𝓽𝓮̂𝓶𝓲𝓬𝓪𝓼\, disponível no Youtube Music e Spotify\nTemos duas vagas para constelar (para constelação valor à combinar).Se você deseja fazer a sua reserva de constelação\, converse comigo pelo WhatsApp
URL:https://sheilaquerido.com.br/event/workshop_20260413/
LOCATION:Plataforma Zoom
ATTACH;FMTTYPE=image/png:https://sheilaquerido.com.br/wp-content/uploads/2026/04/work_20260413.png
ORGANIZER;CN="Instituto Sheila Querido's":MAILTO:contato@institutosheilaqueridos.com.br
END:VEVENT
END:VCALENDAR