BEGIN:VCALENDAR
VERSION:2.0
PRODID:-//InstitutoSQ - ECPv6.15.20//NONSGML v1.0//EN
CALSCALE:GREGORIAN
METHOD:PUBLISH
X-WR-CALNAME:InstitutoSQ
X-ORIGINAL-URL:https://sheilaquerido.com.br
X-WR-CALDESC:Eventos para InstitutoSQ
REFRESH-INTERVAL;VALUE=DURATION:PT1H
X-Robots-Tag:noindex
X-PUBLISHED-TTL:PT1H
BEGIN:VTIMEZONE
TZID:America/Sao_Paulo
BEGIN:STANDARD
TZOFFSETFROM:-0300
TZOFFSETTO:-0300
TZNAME:-03
DTSTART:20250101T000000
END:STANDARD
END:VTIMEZONE
BEGIN:VEVENT
DTSTART;TZID=America/Sao_Paulo:20260414T080000
DTEND;TZID=America/Sao_Paulo:20260414T083000
DTSTAMP:20260421T120806
CREATED:20260406T154841Z
LAST-MODIFIED:20260406T154841Z
UID:9093-1776153600-1776155400@sheilaquerido.com.br
SUMMARY:Dinheiro segue o fluxo do amor
DESCRIPTION:O dinheiro não responde à força\, responde ao fluxo.\nQuando o amor foi interrompido — por exclusões\, rejeições ou julgamentos — o fluxo também se interrompe.\nAo incluir quem foi esquecido e honrar quem veio antes\, o movimento financeiro encontra caminho.\nOnde o amor volta a circular\, o dinheiro deixa de travar.\nVamos conversar sobre isso na nossa live.\n🗓 𝗗𝗶𝗮 𝟭𝟰/𝟬𝟰\, 𝗮̀𝘀 𝟴𝗵 𝗮𝗼 𝘃𝗶𝘃𝗼 𝗻𝗼 𝗜𝗻𝘀𝘁𝗮𝗴𝗿𝗮𝗺 @𝘀𝗵𝗲𝗶𝗹𝗮𝗾𝘂𝗲𝗿𝗶𝗱𝗼.𝗰𝗼𝗻𝘀𝘁𝗲𝗹𝗮𝗰𝗮𝗼\nREGISTRE SUA PRESENÇA\n🔔 Ative o lembrete e compartilhe\, você será muito bem-vindo(a)!\n𝕀𝕟𝕤𝕥𝕚𝕥𝕦𝕥𝕠 𝕊𝕙𝕖𝕚𝕝𝕒 ℚ𝕦𝕖𝕣𝕚𝕕𝕠’𝕤𝕀𝕞𝕡𝕦𝕝𝕤𝕠 𝕧𝕚𝕥𝕒𝕝 𝕡𝕒𝕣𝕒 𝕣𝕖𝕒𝕝𝕚𝕫𝕒𝕣! (𝟭𝟮)𝟵𝟵𝟳𝟲𝟱𝟮𝟯𝟵𝟲\n👁️‍🗨️📱💻🌐🔊Sɪɢᴀ ɴᴏssᴀs ʀᴇᴅᴇs sᴏᴄɪᴀɪs: Instagram e Canal no Youtube\,\ne oᴜᴄ̧ᴀ ᴏ Podcast: 𝓒𝓸𝓷𝓮𝔁𝓸̃𝓮𝓼 𝓢𝓲𝓼𝓽𝓮̂𝓶𝓲𝓬𝓪𝓼\, disponível no Youtube Music e Spotify
URL:https://sheilaquerido.com.br/event/live_20260414/
LOCATION:Instagram
ATTACH;FMTTYPE=image/png:https://sheilaquerido.com.br/wp-content/uploads/2026/04/live_20260414.png
ORGANIZER;CN="Instituto Sheila Querido's":MAILTO:contato@institutosheilaqueridos.com.br
END:VEVENT
END:VCALENDAR