BEGIN:VCALENDAR
VERSION:2.0
PRODID:-//InstitutoSQ - ECPv6.15.20//NONSGML v1.0//EN
CALSCALE:GREGORIAN
METHOD:PUBLISH
X-ORIGINAL-URL:https://sheilaquerido.com.br
X-WR-CALDESC:Eventos para InstitutoSQ
REFRESH-INTERVAL;VALUE=DURATION:PT1H
X-Robots-Tag:noindex
X-PUBLISHED-TTL:PT1H
BEGIN:VTIMEZONE
TZID:America/Sao_Paulo
BEGIN:STANDARD
TZOFFSETFROM:-0300
TZOFFSETTO:-0300
TZNAME:-03
DTSTART:20250101T000000
END:STANDARD
END:VTIMEZONE
BEGIN:VEVENT
DTSTART;TZID=America/Sao_Paulo:20260420T190000
DTEND;TZID=America/Sao_Paulo:20260420T220000
DTSTAMP:20260421T121811
CREATED:20260409T180136Z
LAST-MODIFIED:20260409T180259Z
UID:9119-1776711600-1776722400@sheilaquerido.com.br
SUMMARY:Diagnóstico Sistêmico – Prosperidade e Dinheiro
DESCRIPTION:Quero convidar você para participar de um encontro especial de Diagnóstico Sistêmico\, onde vamos explorar\, de forma profunda e transformadora\, as questões relacionadas à prosperidade e ao fluxo do dinheiro em sua vida.\n💡 Será um momento de consciência\, clareza e novos insights para desbloquear padrões que podem estar limitando sua abundância.\n🎁 Bônus especial: As 10 primeiras pessoas inscritas receberão uma consulta sistêmica online gratuita comigo! ⚠️ As vagas são limitadas.\n💰 Investimento: R$ 48\,00\nGaranta seu lugar e venha dar um passo importante em direção a uma relação mais saudável e próspera com o dinheiro.\nINSCREVA-SE\n𝕀𝕟𝕤𝕥𝕚𝕥𝕦𝕥𝕠 𝕊𝕙𝕖𝕚𝕝𝕒 ℚ𝕦𝕖𝕣𝕚𝕕𝕠’𝕤𝕀𝕞𝕡𝕦𝕝𝕤𝕠 𝕧𝕚𝕥𝕒𝕝 𝕡𝕒𝕣𝕒 𝕣𝕖𝕒𝕝𝕚𝕫𝕒𝕣! (𝟭𝟮)𝟵𝟵𝟳𝟲𝟱𝟮𝟯𝟵𝟲\n👁️‍🗨️📱💻🌐🔊Sɪɢᴀ ɴᴏssᴀs ʀᴇᴅᴇs sᴏᴄɪᴀɪs: Instagram e Canal no Youtube\,\ne oᴜᴄ̧ᴀ ᴏ Podcast: 𝓒𝓸𝓷𝓮𝔁𝓸̃𝓮𝓼 𝓢𝓲𝓼𝓽𝓮̂𝓶𝓲𝓬𝓪𝓼\, disponível no Youtube Music e Spotify\nTemos duas vagas para constelar (para constelação valor à combinar).Se você deseja fazer a sua reserva de constelação\, converse comigo pelo WhatsApp
URL:https://sheilaquerido.com.br/event/work_20260420/
LOCATION:Plataforma Zoom
ATTACH;FMTTYPE=image/png:https://sheilaquerido.com.br/wp-content/uploads/2026/04/work_20260420.png
ORGANIZER;CN="Instituto Sheila Querido's":MAILTO:contato@institutosheilaqueridos.com.br
END:VEVENT
END:VCALENDAR