BEGIN:VCALENDAR
VERSION:2.0
PRODID:-//InstitutoSQ - ECPv6.15.20//NONSGML v1.0//EN
CALSCALE:GREGORIAN
METHOD:PUBLISH
X-ORIGINAL-URL:https://sheilaquerido.com.br
X-WR-CALDESC:Eventos para InstitutoSQ
REFRESH-INTERVAL;VALUE=DURATION:PT1H
X-Robots-Tag:noindex
X-PUBLISHED-TTL:PT1H
BEGIN:VTIMEZONE
TZID:America/Sao_Paulo
BEGIN:STANDARD
TZOFFSETFROM:-0300
TZOFFSETTO:-0300
TZNAME:-03
DTSTART:20250101T000000
END:STANDARD
END:VTIMEZONE
BEGIN:VEVENT
DTSTART;TZID=America/Sao_Paulo:20260323T190000
DTEND;TZID=America/Sao_Paulo:20260323T220000
DTSTAMP:20260421T121845
CREATED:20260321T150601Z
LAST-MODIFIED:20260321T150654Z
UID:9042-1774292400-1774303200@sheilaquerido.com.br
SUMMARY:129º Workshop de Constelação Familiar On-line
DESCRIPTION:Participem do nosso 129º Workshop de Constelação Familiar On-line\, pela plataforma Zoom.\nTema: Fracassar dói. Mas\, para alguns sistemas ter sucesso\, dói mais.\nVamos entender os ciclos de sabotagem recorrente\, onde muitas vezes\, o amor infantil prefere falhar a se diferenciar.\nSe você se reconhece nesse padrão\, não pode perder este encontro!\n📅 Dia 23/03.⏰ 19h.📍 Plataforma Zoom.\nA participação é gratuita para assistir. 🆓\nINSCREVA-SE\n𝕀𝕟𝕤𝕥𝕚𝕥𝕦𝕥𝕠 𝕊𝕙𝕖𝕚𝕝𝕒 ℚ𝕦𝕖𝕣𝕚𝕕𝕠’𝕤𝕀𝕞𝕡𝕦𝕝𝕤𝕠 𝕧𝕚𝕥𝕒𝕝 𝕡𝕒𝕣𝕒 𝕣𝕖𝕒𝕝𝕚𝕫𝕒𝕣! (𝟭𝟮)𝟵𝟵𝟳𝟲𝟱𝟮𝟯𝟵𝟲\n👁️‍🗨️📱💻🌐🔊Sɪɢᴀ ɴᴏssᴀs ʀᴇᴅᴇs sᴏᴄɪᴀɪs: Instagram e Canal no Youtube\,\ne oᴜᴄ̧ᴀ ᴏ Podcast: 𝓒𝓸𝓷𝓮𝔁𝓸̃𝓮𝓼 𝓢𝓲𝓼𝓽𝓮̂𝓶𝓲𝓬𝓪𝓼\, disponível no Youtube Music e Spotify\nTemos duas vagas para constelar (para constelação valor à combinar).Se você deseja fazer a sua reserva de constelação\, converse comigo pelo WhatsApp
URL:https://sheilaquerido.com.br/event/workshop_20260323/
LOCATION:Plataforma Zoom
ATTACH;FMTTYPE=image/png:https://sheilaquerido.com.br/wp-content/uploads/2026/03/evento_20260323.png
ORGANIZER;CN="Instituto Sheila Querido's":MAILTO:contato@institutosheilaqueridos.com.br
END:VEVENT
BEGIN:VEVENT
DTSTART;TZID=America/Sao_Paulo:20260324T080000
DTEND;TZID=America/Sao_Paulo:20260324T083000
DTSTAMP:20260421T121845
CREATED:20260321T151428Z
LAST-MODIFIED:20260321T152315Z
UID:9049-1774339200-1774341000@sheilaquerido.com.br
SUMMARY:Seguir em frente não é abandonar\, é honrar de outro jeito
DESCRIPTION:Abandonar é negar. Mas seguir em frente é incluir.\nQuando caminhamos adiante levando o amor\, não deixamos ninguém para trás — apenas mudamos a forma de pertencer.\n👉 Honro quem veio antes vivendo plenamente o que recebi.\nVamos falar sobre isso na nossa live.\n🗓 Dia 24/03\, às 8h ao vivo no Instagram\nREGISTRE SUA PRESENÇA\n🔔 Ative o lembrete e compartilhe\, você será muito bem-vindo(a)!\n𝕀𝕟𝕤𝕥𝕚𝕥𝕦𝕥𝕠 𝕊𝕙𝕖𝕚𝕝𝕒 ℚ𝕦𝕖𝕣𝕚𝕕𝕠’𝕤𝕀𝕞𝕡𝕦𝕝𝕤𝕠 𝕧𝕚𝕥𝕒𝕝 𝕡𝕒𝕣𝕒 𝕣𝕖𝕒𝕝𝕚𝕫𝕒𝕣! (𝟭𝟮)𝟵𝟵𝟳𝟲𝟱𝟮𝟯𝟵𝟲\n👁️‍🗨️📱💻🌐🔊Sɪɢᴀ ɴᴏssᴀs ʀᴇᴅᴇs sᴏᴄɪᴀɪs: Instagram e Canal no Youtube\,\ne oᴜᴄ̧ᴀ ᴏ Podcast: 𝓒𝓸𝓷𝓮𝔁𝓸̃𝓮𝓼 𝓢𝓲𝓼𝓽𝓮̂𝓶𝓲𝓬𝓪𝓼\, disponível no Youtube Music e Spotify
URL:https://sheilaquerido.com.br/event/live_20262403/
LOCATION:Instagram
ATTACH;FMTTYPE=image/png:https://sheilaquerido.com.br/wp-content/uploads/2026/03/evento_20260324.png
ORGANIZER;CN="Instituto Sheila Querido's":MAILTO:contato@institutosheilaqueridos.com.br
END:VEVENT
BEGIN:VEVENT
DTSTART;TZID=America/Sao_Paulo:20260331T080000
DTEND;TZID=America/Sao_Paulo:20260331T083000
DTSTAMP:20260421T121845
CREATED:20260321T152023Z
LAST-MODIFIED:20260321T152510Z
UID:9052-1774944000-1774945800@sheilaquerido.com.br
SUMMARY:E se o seu amor pela família\, estiver custando a sua vida?
DESCRIPTION:Muitas vezes\, achamos que amar é se sacrificar.\nMas o amor que aprisiona não é amor adulto\, é vínculo infantil que impede crescimento\, sucesso e realização.\n👉 Amor não exige que você desapareça.\nVamos conversar sobre isso na nossa live.\n🗓 Dia 31/03\, às 8h ao vivo no Instagram\nREGISTRE SUA PRESENÇA\n🔔 Ative o lembrete e compartilhe\, você será muito bem-vindo(a)!\n𝕀𝕟𝕤𝕥𝕚𝕥𝕦𝕥𝕠 𝕊𝕙𝕖𝕚𝕝𝕒 ℚ𝕦𝕖𝕣𝕚𝕕𝕠’𝕤𝕀𝕞𝕡𝕦𝕝𝕤𝕠 𝕧𝕚𝕥𝕒𝕝 𝕡𝕒𝕣𝕒 𝕣𝕖𝕒𝕝𝕚𝕫𝕒𝕣! (𝟭𝟮)𝟵𝟵𝟳𝟲𝟱𝟮𝟯𝟵𝟲\n👁️‍🗨️📱💻🌐🔊Sɪɢᴀ ɴᴏssᴀs ʀᴇᴅᴇs sᴏᴄɪᴀɪs: Instagram e Canal no Youtube\,\ne oᴜᴄ̧ᴀ ᴏ Podcast: 𝓒𝓸𝓷𝓮𝔁𝓸̃𝓮𝓼 𝓢𝓲𝓼𝓽𝓮̂𝓶𝓲𝓬𝓪𝓼\, disponível no Youtube Music e Spotify
URL:https://sheilaquerido.com.br/event/live_20260331/
LOCATION:Instagram
ATTACH;FMTTYPE=image/png:https://sheilaquerido.com.br/wp-content/uploads/2026/03/evento_20260331.png
ORGANIZER;CN="Instituto Sheila Querido's":MAILTO:contato@institutosheilaqueridos.com.br
END:VEVENT
END:VCALENDAR