BEGIN:VCALENDAR
VERSION:2.0
PRODID:-//InstitutoSQ - ECPv6.15.20//NONSGML v1.0//EN
CALSCALE:GREGORIAN
METHOD:PUBLISH
X-WR-CALNAME:InstitutoSQ
X-ORIGINAL-URL:https://sheilaquerido.com.br
X-WR-CALDESC:Eventos para InstitutoSQ
REFRESH-INTERVAL;VALUE=DURATION:PT1H
X-Robots-Tag:noindex
X-PUBLISHED-TTL:PT1H
BEGIN:VTIMEZONE
TZID:America/Sao_Paulo
BEGIN:STANDARD
TZOFFSETFROM:-0300
TZOFFSETTO:-0300
TZNAME:-03
DTSTART:20250101T000000
END:STANDARD
END:VTIMEZONE
BEGIN:VEVENT
DTSTART;TZID=America/Sao_Paulo:20260421T080000
DTEND;TZID=America/Sao_Paulo:20260421T083000
DTSTAMP:20260421T104732
CREATED:20260409T205314Z
LAST-MODIFIED:20260409T205723Z
UID:9146-1776758400-1776760200@sheilaquerido.com.br
SUMMARY:Prosperar sem carregar a dor de gerações
DESCRIPTION:Há quem confunda honrar com sofrer.\nE\, por lealdade\, carrega dores que não são suas: escassez\, fracasso\, sacrifício.\nProsperar de forma saudável não é desrespeitar o passado\, é dar um novo destino ao que foi vivido.\nA vida quer seguir — mais leve.\nVamos conversar sobre isso na nossa live.\n🗓 Dia 21/04\, às 8h ao vivo no instagram.\nREGISTRE SUA PRESENÇA\n🔔 Ative o lembrete e compartilhe\, você será muito bem-vindo(a)!\n𝕀𝕟𝕤𝕥𝕚𝕥𝕦𝕥𝕠 𝕊𝕙𝕖𝕚𝕝𝕒 ℚ𝕦𝕖𝕣𝕚𝕕𝕠’𝕤𝕀𝕞𝕡𝕦𝕝𝕤𝕠 𝕧𝕚𝕥𝕒𝕝 𝕡𝕒𝕣𝕒 𝕣𝕖𝕒𝕝𝕚𝕫𝕒𝕣! (𝟭𝟮)𝟵𝟵𝟳𝟲𝟱𝟮𝟯𝟵𝟲\n👁️‍🗨️📱💻🌐🔊Sɪɢᴀ ɴᴏssᴀs ʀᴇᴅᴇs sᴏᴄɪᴀɪs: Instagram e Canal no Youtube\,\ne oᴜᴄ̧ᴀ ᴏ Podcast: 𝓒𝓸𝓷𝓮𝔁𝓸̃𝓮𝓼 𝓢𝓲𝓼𝓽𝓮̂𝓶𝓲𝓬𝓪𝓼\, disponível no Youtube Music e Spotify
URL:https://sheilaquerido.com.br/event/prosperar-sem-carregar-a-dor-de-geracoes/
LOCATION:Instagram
ATTACH;FMTTYPE=image/png:https://sheilaquerido.com.br/wp-content/uploads/2026/04/live_20260421.png
ORGANIZER;CN="Instituto Sheila Querido's":MAILTO:contato@institutosheilaqueridos.com.br
END:VEVENT
BEGIN:VEVENT
DTSTART;TZID=America/Sao_Paulo:20260427T190000
DTEND;TZID=America/Sao_Paulo:20260427T220000
DTSTAMP:20260421T104732
CREATED:20260409T210732Z
LAST-MODIFIED:20260409T210805Z
UID:9154-1777316400-1777327200@sheilaquerido.com.br
SUMMARY:O dinheiro respeita quem respeita a própria origem
DESCRIPTION:🔖💛 Quero convidá-los para participarem do 130º Workshop de Constelação Familiar On-line.\nTema: O dinheiro respeita quem respeita a própria origem\nVamos entender a relação entre nossa origem e o dinheiro.\n📅 Dia: 27/04⏰ 19h📍 Plataforma Zoom\nA participação é gratuita para assistir 🆓\nINSCREVA-SE\n𝕀𝕟𝕤𝕥𝕚𝕥𝕦𝕥𝕠 𝕊𝕙𝕖𝕚𝕝𝕒 ℚ𝕦𝕖𝕣𝕚𝕕𝕠’𝕤𝕀𝕞𝕡𝕦𝕝𝕤𝕠 𝕧𝕚𝕥𝕒𝕝 𝕡𝕒𝕣𝕒 𝕣𝕖𝕒𝕝𝕚𝕫𝕒𝕣! (𝟭𝟮)𝟵𝟵𝟳𝟲𝟱𝟮𝟯𝟵𝟲\n👁️‍🗨️📱💻🌐🔊Sɪɢᴀ ɴᴏssᴀs ʀᴇᴅᴇs sᴏᴄɪᴀɪs: Instagram e Canal no Youtube\,\ne oᴜᴄ̧ᴀ ᴏ Podcast: 𝓒𝓸𝓷𝓮𝔁𝓸̃𝓮𝓼 𝓢𝓲𝓼𝓽𝓮̂𝓶𝓲𝓬𝓪𝓼\, disponível no Youtube Music e Spotify\nTemos duas vagas para constelar (para constelação valor à combinar).Se você deseja fazer a sua reserva de constelação\, converse comigo pelo WhatsApp
URL:https://sheilaquerido.com.br/event/work_20260427/
LOCATION:Plataforma Zoom
ATTACH;FMTTYPE=image/png:https://sheilaquerido.com.br/wp-content/uploads/2026/04/work_20260427.png
ORGANIZER;CN="Instituto Sheila Querido's":MAILTO:contato@institutosheilaqueridos.com.br
END:VEVENT
BEGIN:VEVENT
DTSTART;TZID=America/Sao_Paulo:20260428T080000
DTEND;TZID=America/Sao_Paulo:20260428T083000
DTSTAMP:20260421T104732
CREATED:20260409T210256Z
LAST-MODIFIED:20260409T210256Z
UID:9151-1777363200-1777365000@sheilaquerido.com.br
SUMMARY:Trabalhar demais é força\, ou um esquema de aprovação?
DESCRIPTION:Nem todo excesso de trabalho é ambição saudável.\nMuitas vezes\, é uma tentativa infantil de provar valor\, pertencer ou ser visto.\nQuando o trabalho vira compensação emocional\, o corpo paga a conta e o prazer desaparece.\nO adulto não precisa provar que merece existir.\nVamos conversar sobre isso na nossa live.\n🗓 Dia 21/04\, às 8h ao vivo no instagram.\nREGISTRE SUA PRESENÇA\n🔔 Ative o lembrete e compartilhe\, você será muito bem-vindo(a)!\n𝕀𝕟𝕤𝕥𝕚𝕥𝕦𝕥𝕠 𝕊𝕙𝕖𝕚𝕝𝕒 ℚ𝕦𝕖𝕣𝕚𝕕𝕠’𝕤𝕀𝕞𝕡𝕦𝕝𝕤𝕠 𝕧𝕚𝕥𝕒𝕝 𝕡𝕒𝕣𝕒 𝕣𝕖𝕒𝕝𝕚𝕫𝕒𝕣! (𝟭𝟮)𝟵𝟵𝟳𝟲𝟱𝟮𝟯𝟵𝟲\n👁️‍🗨️📱💻🌐🔊Sɪɢᴀ ɴᴏssᴀs ʀᴇᴅᴇs sᴏᴄɪᴀɪs: Instagram e Canal no Youtube\,\ne oᴜᴄ̧ᴀ ᴏ Podcast: 𝓒𝓸𝓷𝓮𝔁𝓸̃𝓮𝓼 𝓢𝓲𝓼𝓽𝓮̂𝓶𝓲𝓬𝓪𝓼\, disponível no Youtube Music e Spotify
URL:https://sheilaquerido.com.br/event/live_20260428/
LOCATION:Instagram
ATTACH;FMTTYPE=image/png:https://sheilaquerido.com.br/wp-content/uploads/2026/04/live_20260428.png
ORGANIZER;CN="Instituto Sheila Querido's":MAILTO:contato@institutosheilaqueridos.com.br
END:VEVENT
END:VCALENDAR